BEGIN:VCALENDAR
VERSION:2.0
PRODID:-//Urnik FRI//urnik.fri.uni-lj.si//
BEGIN:VEVENT
SUMMARY:APS1 - LV
DTSTART;TZID=Europe/Ljubljana;VALUE=DATE-TIME:20191003T110000
DTEND;TZID=Europe/Ljubljana;VALUE=DATE-TIME:20191003T130000
DTSTAMP;VALUE=DATE-TIME:20260425T190013Z
UID:urnikfri-156437
RRULE:FREQ=WEEKLY;UNTIL=20200118T235959;BYDAY=TH
DESCRIPTION:Algoritmi in podatkovne strukture 1 LV @ PR05\nPetar Vračar
LOCATION:PR05
END:VEVENT
BEGIN:VEVENT
SUMMARY:APS1 - LV
DTSTART;TZID=Europe/Ljubljana;VALUE=DATE-TIME:20191004T150000
DTEND;TZID=Europe/Ljubljana;VALUE=DATE-TIME:20191004T170000
DTSTAMP;VALUE=DATE-TIME:20260425T190013Z
UID:urnikfri-156438
RRULE:FREQ=WEEKLY;UNTIL=20200118T235959;BYDAY=FR
DESCRIPTION:Algoritmi in podatkovne strukture 1 LV @ PR09\nPetar Vračar
LOCATION:PR09
END:VEVENT
BEGIN:VEVENT
SUMMARY:APS1 - LV
DTSTART;TZID=Europe/Ljubljana;VALUE=DATE-TIME:20191001T170000
DTEND;TZID=Europe/Ljubljana;VALUE=DATE-TIME:20191001T190000
DTSTAMP;VALUE=DATE-TIME:20260425T190013Z
UID:urnikfri-156440
RRULE:FREQ=WEEKLY;UNTIL=20200118T235959;BYDAY=TU
DESCRIPTION:Algoritmi in podatkovne strukture 1 LV @ PR10\nMiha Drole
LOCATION:PR10
END:VEVENT
BEGIN:VEVENT
SUMMARY:APS1 - LV
DTSTART;TZID=Europe/Ljubljana;VALUE=DATE-TIME:20191002T170000
DTEND;TZID=Europe/Ljubljana;VALUE=DATE-TIME:20191002T190000
DTSTAMP;VALUE=DATE-TIME:20260425T190013Z
UID:urnikfri-156441
RRULE:FREQ=WEEKLY;UNTIL=20200118T235959;BYDAY=WE
DESCRIPTION:Algoritmi in podatkovne strukture 1 LV @ PR10\nMiha Drole
LOCATION:PR10
END:VEVENT
BEGIN:VEVENT
SUMMARY:APS1 - LV
DTSTART;TZID=Europe/Ljubljana;VALUE=DATE-TIME:20191007T150000
DTEND;TZID=Europe/Ljubljana;VALUE=DATE-TIME:20191007T170000
DTSTAMP;VALUE=DATE-TIME:20260425T190013Z
UID:urnikfri-156442
RRULE:FREQ=WEEKLY;UNTIL=20200118T235959;BYDAY=MO
DESCRIPTION:Algoritmi in podatkovne strukture 1 LV @ PR12\nPetar Vračar
LOCATION:PR12
END:VEVENT
BEGIN:VEVENT
SUMMARY:APS1 - LV
DTSTART;TZID=Europe/Ljubljana;VALUE=DATE-TIME:20191007T130000
DTEND;TZID=Europe/Ljubljana;VALUE=DATE-TIME:20191007T150000
DTSTAMP;VALUE=DATE-TIME:20260425T190013Z
UID:urnikfri-156443
RRULE:FREQ=WEEKLY;UNTIL=20200118T235959;BYDAY=MO
DESCRIPTION:Algoritmi in podatkovne strukture 1 LV @ PR08\nPetar Vračar
LOCATION:PR08
END:VEVENT
BEGIN:VEVENT
SUMMARY:APS1 - LV
DTSTART;TZID=Europe/Ljubljana;VALUE=DATE-TIME:20191003T090000
DTEND;TZID=Europe/Ljubljana;VALUE=DATE-TIME:20191003T110000
DTSTAMP;VALUE=DATE-TIME:20260425T190013Z
UID:urnikfri-156444
RRULE:FREQ=WEEKLY;UNTIL=20200118T235959;BYDAY=TH
DESCRIPTION:Algoritmi in podatkovne strukture 1 LV @ P11-FKKT\nPetar Vrač
 ar
LOCATION:P11-FKKT
END:VEVENT
BEGIN:VEVENT
SUMMARY:APS1 - P
DTSTART;TZID=Europe/Ljubljana;VALUE=DATE-TIME:20191004T080000
DTEND;TZID=Europe/Ljubljana;VALUE=DATE-TIME:20191004T110000
DTSTAMP;VALUE=DATE-TIME:20260425T190013Z
UID:urnikfri-156447
RRULE:FREQ=WEEKLY;UNTIL=20200118T235959;BYDAY=FR
DESCRIPTION:Algoritmi in podatkovne strukture 1 P @ PA\nIgor Kononenko
LOCATION:PA
END:VEVENT
END:VCALENDAR
